BEGIN:VCALENDAR
VERSION:2.0
PRODID:-//Øverland Andelslandbruk - ECPv6.15.20//NONSGML v1.0//EN
CALSCALE:GREGORIAN
METHOD:PUBLISH
X-WR-CALNAME:Øverland Andelslandbruk
X-ORIGINAL-URL:https://overlandel.no
X-WR-CALDESC:Arrangement for Øverland Andelslandbruk
REFRESH-INTERVAL;VALUE=DURATION:PT1H
X-Robots-Tag:noindex
X-PUBLISHED-TTL:PT1H
BEGIN:VTIMEZONE
TZID:Europe/Oslo
BEGIN:DAYLIGHT
TZOFFSETFROM:+0100
TZOFFSETTO:+0200
TZNAME:CEST
DTSTART:20240331T010000
END:DAYLIGHT
BEGIN:STANDARD
TZOFFSETFROM:+0200
TZOFFSETTO:+0100
TZNAME:CET
DTSTART:20241027T010000
END:STANDARD
BEGIN:DAYLIGHT
TZOFFSETFROM:+0100
TZOFFSETTO:+0200
TZNAME:CEST
DTSTART:20250330T010000
END:DAYLIGHT
BEGIN:STANDARD
TZOFFSETFROM:+0200
TZOFFSETTO:+0100
TZNAME:CET
DTSTART:20251026T010000
END:STANDARD
BEGIN:DAYLIGHT
TZOFFSETFROM:+0100
TZOFFSETTO:+0200
TZNAME:CEST
DTSTART:20260329T010000
END:DAYLIGHT
BEGIN:STANDARD
TZOFFSETFROM:+0200
TZOFFSETTO:+0100
TZNAME:CET
DTSTART:20261025T010000
END:STANDARD
END:VTIMEZONE
BEGIN:VEVENT
DTSTART;TZID=Europe/Oslo:20250427T120000
DTEND;TZID=Europe/Oslo:20250427T150000
DTSTAMP:20260421T101048
CREATED:20250116T084045Z
LAST-MODIFIED:20250425T071138Z
UID:7534-1745755200-1745766000@overlandel.no
SUMMARY:Vårfestival
DESCRIPTION:Etter en lang vinter gleder vi oss til å invitere til vårslipp og åpen dag på jordet! Alle er velkommene innom denne dagen. Gamle og nye andelshavere\, så vel som nysgjerrige gester. Vi dekker på under pergolaen med våre rødrutete duker og det blir salgsboder med mat og godsaker. Vaffel og kaffepressa kommer til å putre jevnt og vi lover sprek og innovativ vaffeltopping! Det blir også mulig å kjøpe med seg økologiske/biodynamiske varer hjem; egg\, kjøtt\, grønnsaker\, brød\, snacks med mer. \nEr du nysgjerrig på andelslandbruket er dette en ypperlig anledning til å stikke innom og sjekke det ut! \n  \nPROGRAM FOR DAGEN:\n  \n12:30 Omvisning for interesserte. Oppmøte ved pergolaen \n13:00 Konstert med Siv Jakobsen (i/ved det store drivhuset) \n14:00 Vill vandring med Kristine. Lær om spiselige ville vekster i naturen. Oppmøte ved pergolaen \n14:30 Omvisning for interesserte. Oppmøte ved pergolaen \n  \n  \n  \n 
URL:https://overlandel.no/arrangement/varfestival/
LOCATION:Øverland Andelslandbruk\, Gml. Ringeriksvei 123\, Bekkestua\, Bekkestua\, 1356\, Norway
CATEGORIES:Åpne arrangementer
ATTACH;FMTTYPE=image/png:https://overlandel.no/wp-content/uploads/2025/01/varfest-1.png
ORGANIZER;CN="Marianne R%C3%B8ed Steinsskogen":MAILTO:post@overlandel.no
END:VEVENT
BEGIN:VEVENT
DTSTART;TZID=Europe/Oslo:20250427T203000
DTEND;TZID=Europe/Oslo:20250427T203000
DTSTAMP:20260421T101048
CREATED:20250427T061609Z
LAST-MODIFIED:20250427T061609Z
UID:8149-1745785800-1745785800@overlandel.no
SUMMARY:Nymåne-seremoni med manifistering og seremoniell kakao 27. april
DESCRIPTION:Velkommen til nymåne-seremoni på Øverland!\n\nNymåne-seremoni er en kraftfull praksis for å sette intensjoner og manifestere. Nymånen markerer starten på en ny syklus\, hvor månen er usynlig på himmelen – en tid for stillhet\, refleksjon og muligheten til å plante nye frø i vårt liv. Energien er på sitt mest mottakelige\, og universet støtter oss i å skape endring og tiltrekke det vi ønsker.\n\nI denne seremonien samles vi i sirkel\, åpner hjertene gjennom en kakaoseremoni og forsterker våre manifestasjoner ved å dele dem med hverandre\, (om du er komfortabel). Kraften av fellesskap og naturens tilstedeværelse forankres intensjonene dypere. Etter seremonien opplever mange en følelse av klarhet\, indre ro og en sterkere forbindelse til sin vei fremover.\n\nHusk å kle deg etter vær\, seremonien blir utendørs. Kom med åpent hjerte og åpent sinn. Du deltar så mye du er komfortabel med:\n\nÅpning av sirkel\nBreathwork\nJournaling\nSharing\nManifesterings Meditasjon\nSeremoniell kakao\nDans rundt bålet\nIntensjon/Affirmasjon\nTakknemlighet\nLukking av sirkel\n\nPris er 555.- kr eller 333.- for medlemmer av Øverland Andelslandbruk.\nSpørsmål sendes til healthyactivemama@gmail.com
URL:https://overlandel.no/arrangement/nymane-seremoni-med-manifistering-og-seremoniell-kakao-27-april/
LOCATION:Øverland Andelslandbruk\, Gml. Ringeriksvei 123\, Bekkestua\, Bekkestua\, 1356\, Norway
CATEGORIES:Kurs
ATTACH;FMTTYPE=image/png:https://overlandel.no/wp-content/uploads/2025/04/nymane-3.png
ORGANIZER;CN="Audur Siggurdardottir":MAILTO:healthyactivemama@gmail.com
END:VEVENT
END:VCALENDAR