BEGIN:VCALENDAR
VERSION:2.0
PRODID:-//Øverland Andelslandbruk - ECPv6.15.20//NONSGML v1.0//EN
CALSCALE:GREGORIAN
METHOD:PUBLISH
X-ORIGINAL-URL:https://overlandel.no
X-WR-CALDESC:Arrangement for Øverland Andelslandbruk
REFRESH-INTERVAL;VALUE=DURATION:PT1H
X-Robots-Tag:noindex
X-PUBLISHED-TTL:PT1H
BEGIN:VTIMEZONE
TZID:Europe/Oslo
BEGIN:DAYLIGHT
TZOFFSETFROM:+0100
TZOFFSETTO:+0200
TZNAME:CEST
DTSTART:20240331T010000
END:DAYLIGHT
BEGIN:STANDARD
TZOFFSETFROM:+0200
TZOFFSETTO:+0100
TZNAME:CET
DTSTART:20241027T010000
END:STANDARD
BEGIN:DAYLIGHT
TZOFFSETFROM:+0100
TZOFFSETTO:+0200
TZNAME:CEST
DTSTART:20250330T010000
END:DAYLIGHT
BEGIN:STANDARD
TZOFFSETFROM:+0200
TZOFFSETTO:+0100
TZNAME:CET
DTSTART:20251026T010000
END:STANDARD
BEGIN:DAYLIGHT
TZOFFSETFROM:+0100
TZOFFSETTO:+0200
TZNAME:CEST
DTSTART:20260329T010000
END:DAYLIGHT
BEGIN:STANDARD
TZOFFSETFROM:+0200
TZOFFSETTO:+0100
TZNAME:CET
DTSTART:20261025T010000
END:STANDARD
END:VTIMEZONE
BEGIN:VEVENT
DTSTART;VALUE=DATE:20250528
DTEND;VALUE=DATE:20250529
DTSTAMP:20260421T033318
CREATED:20250214T114317Z
LAST-MODIFIED:20250214T114317Z
UID:7682-1748390400-1748476799@overlandel.no
SUMMARY:Hverdagsdugnad
DESCRIPTION:Hver onsdag fra april til oktober har vi dugnad på jordet fra kl 13 til 19. Kom når det passer og bli 1\, 2 eller 6 timer 🙂
URL:https://overlandel.no/arrangement/hverdagsdugnad4/
CATEGORIES:Dugnad
ATTACH;FMTTYPE=image/png:https://overlandel.no/wp-content/uploads/2025/02/onsdagsdugnad.png
END:VEVENT
BEGIN:VEVENT
DTSTART;TZID=Europe/Oslo:20250528T150000
DTEND;TZID=Europe/Oslo:20250528T180000
DTSTAMP:20260421T033318
CREATED:20250509T084134Z
LAST-MODIFIED:20250509T084134Z
UID:8222-1748444400-1748455200@overlandel.no
SUMMARY:Food-UP
DESCRIPTION:Organic Farmers Market & Pop-up Grocery Concept\n\nWe are excited to welcome you to Øverland Gård (Gamle Ringeriksvei 123) on 28. Mai from 15:00 to 18:00. The food-up will be locatad under the pergola next to the greenhouses and the fields at Øverland Andelslandbruk. Free parking. See you!\n\n Organic vegetables Gluten-free sourdough bread Chocolate & snacks Organic meat Warm soup with bread & spread …and more!
URL:https://overlandel.no/arrangement/food-up-250528/
LOCATION:Øverland Andelslandbruk\, Gml. Ringeriksvei 123\, Bekkestua\, Bekkestua\, 1356\, Norway
CATEGORIES:Åpne arrangementer
ATTACH;FMTTYPE=image/png:https://overlandel.no/wp-content/uploads/2025/05/food-up-mai.png
ORGANIZER;CN="Marianne R%C3%B8ed Steinsskogen":MAILTO:post@overlandel.no
END:VEVENT
END:VCALENDAR