BEGIN:VCALENDAR
VERSION:2.0
PRODID:-//Øverland Andelslandbruk - ECPv6.15.20//NONSGML v1.0//EN
CALSCALE:GREGORIAN
METHOD:PUBLISH
X-ORIGINAL-URL:https://overlandel.no
X-WR-CALDESC:Arrangement for Øverland Andelslandbruk
REFRESH-INTERVAL;VALUE=DURATION:PT1H
X-Robots-Tag:noindex
X-PUBLISHED-TTL:PT1H
BEGIN:VTIMEZONE
TZID:Europe/Oslo
BEGIN:DAYLIGHT
TZOFFSETFROM:+0100
TZOFFSETTO:+0200
TZNAME:CEST
DTSTART:20240331T010000
END:DAYLIGHT
BEGIN:STANDARD
TZOFFSETFROM:+0200
TZOFFSETTO:+0100
TZNAME:CET
DTSTART:20241027T010000
END:STANDARD
BEGIN:DAYLIGHT
TZOFFSETFROM:+0100
TZOFFSETTO:+0200
TZNAME:CEST
DTSTART:20250330T010000
END:DAYLIGHT
BEGIN:STANDARD
TZOFFSETFROM:+0200
TZOFFSETTO:+0100
TZNAME:CET
DTSTART:20251026T010000
END:STANDARD
BEGIN:DAYLIGHT
TZOFFSETFROM:+0100
TZOFFSETTO:+0200
TZNAME:CEST
DTSTART:20260329T010000
END:DAYLIGHT
BEGIN:STANDARD
TZOFFSETFROM:+0200
TZOFFSETTO:+0100
TZNAME:CET
DTSTART:20261025T010000
END:STANDARD
END:VTIMEZONE
BEGIN:VEVENT
DTSTART;TZID=Europe/Oslo:20250602T170000
DTEND;TZID=Europe/Oslo:20250602T190000
DTSTAMP:20260421T033102
CREATED:20250523T095019Z
LAST-MODIFIED:20250528T142142Z
UID:8297-1748883600-1748890800@overlandel.no
SUMMARY:Nyttevekstvandring med Kristine 2. juni
DESCRIPTION:Vil du lære mer om spiselige\, ville vekster? Dette kurset tar deg gjennom de vanligste ville nyttevekstene\, og du lærer kjennetegn\, hvordan de kan brukes\, og hvilke planter de kan forveksles med. Ta med papirposer\, kopp\, termos med varmt vann\, og gjerne saks og kurv om du har. \nPris for kurset er 350 for andelshavere og 600 for andre. \nMaks 15 deltagere. \n 
URL:https://overlandel.no/arrangement/nyttevekstvandring-med-kristine-2-juni/
LOCATION:Øverland Andelslandbruk\, Gml. Ringeriksvei 123\, Bekkestua\, Bekkestua\, 1356\, Norway
CATEGORIES:Kurs
ATTACH;FMTTYPE=image/png:https://overlandel.no/wp-content/uploads/2025/05/villevekster-3.png
END:VEVENT
END:VCALENDAR