BEGIN:VCALENDAR
VERSION:2.0
PRODID:-//Øverland Andelslandbruk - ECPv6.15.20//NONSGML v1.0//EN
CALSCALE:GREGORIAN
METHOD:PUBLISH
X-WR-CALNAME:Øverland Andelslandbruk
X-ORIGINAL-URL:https://overlandel.no
X-WR-CALDESC:Arrangement for Øverland Andelslandbruk
REFRESH-INTERVAL;VALUE=DURATION:PT1H
X-Robots-Tag:noindex
X-PUBLISHED-TTL:PT1H
BEGIN:VTIMEZONE
TZID:Europe/Oslo
BEGIN:DAYLIGHT
TZOFFSETFROM:+0100
TZOFFSETTO:+0200
TZNAME:CEST
DTSTART:20250330T010000
END:DAYLIGHT
BEGIN:STANDARD
TZOFFSETFROM:+0200
TZOFFSETTO:+0100
TZNAME:CET
DTSTART:20251026T010000
END:STANDARD
BEGIN:DAYLIGHT
TZOFFSETFROM:+0100
TZOFFSETTO:+0200
TZNAME:CEST
DTSTART:20260329T010000
END:DAYLIGHT
BEGIN:STANDARD
TZOFFSETFROM:+0200
TZOFFSETTO:+0100
TZNAME:CET
DTSTART:20261025T010000
END:STANDARD
BEGIN:DAYLIGHT
TZOFFSETFROM:+0100
TZOFFSETTO:+0200
TZNAME:CEST
DTSTART:20270328T010000
END:DAYLIGHT
BEGIN:STANDARD
TZOFFSETFROM:+0200
TZOFFSETTO:+0100
TZNAME:CET
DTSTART:20271031T010000
END:STANDARD
END:VTIMEZONE
BEGIN:VEVENT
DTSTART;TZID=Europe/Oslo:20260426T110000
DTEND;TZID=Europe/Oslo:20260426T150000
DTSTAMP:20260426T014508
CREATED:20260227T141850Z
LAST-MODIFIED:20260417T101836Z
UID:9808-1777201200-1777215600@overlandel.no
SUMMARY:Vårfestival 2026
DESCRIPTION:Etter en lang vinter gleder vi oss til å invitere til vårslipp og åpen dag på jordet! Alle er velkommene innom denne dagen. Gamle og nye andelshavere\, så vel som nysgjerrige gester. Vi dekker på under pergolaen med våre rødrutete duker og det blir salgsboder med mat og godsaker. Vaffel og kaffepressa kommer til å putre jevnt og vi lover sprek og innovativ vaffeltopping! Det blir også mulig å kjøpe med seg økologiske/biodynamiske varer hjem; egg\, kjøtt\, grønnsaker\, brød\, snacks med mer. \nEr du nysgjerrig på andelslandbruket er dette en ypperlig anledning til å stikke innom og sjekke det ut! \n  \nPROGRAM FOR DAGEN:\n  \nOmvisning for interesserte \nKonstert i/ved det store drivhuset \nMatmarked med salgsboder \nVill vandring. Lær om spiselige ville vekster i naturen \nFermenteringskurs \nSåverksted for barn \nServering av festivaffel \nSykkelverksted \nLekeverksted – reparasjon og børsting av kosedyr \nOg mer…. \n  \n  \n 
URL:https://overlandel.no/arrangement/varfestival-2026/
LOCATION:Øverland Andelslandbruk\, Gml. Ringeriksvei 123\, Bekkestua\, Bekkestua\, 1356\, Norway
CATEGORIES:Åpne arrangementer
ATTACH;FMTTYPE=image/png:https://overlandel.no/wp-content/uploads/2026/02/varfestival.png
ORGANIZER;CN="Marianne R%C3%B8ed Steinsskogen":MAILTO:post@overlandel.no
END:VEVENT
END:VCALENDAR