BEGIN:VCALENDAR
VERSION:2.0
PRODID:-//Øverland Andelslandbruk - ECPv6.15.20//NONSGML v1.0//EN
CALSCALE:GREGORIAN
METHOD:PUBLISH
X-ORIGINAL-URL:https://overlandel.no
X-WR-CALDESC:Arrangement for Øverland Andelslandbruk
REFRESH-INTERVAL;VALUE=DURATION:PT1H
X-Robots-Tag:noindex
X-PUBLISHED-TTL:PT1H
BEGIN:VTIMEZONE
TZID:Europe/Oslo
BEGIN:DAYLIGHT
TZOFFSETFROM:+0100
TZOFFSETTO:+0200
TZNAME:CEST
DTSTART:20240331T010000
END:DAYLIGHT
BEGIN:STANDARD
TZOFFSETFROM:+0200
TZOFFSETTO:+0100
TZNAME:CET
DTSTART:20241027T010000
END:STANDARD
BEGIN:DAYLIGHT
TZOFFSETFROM:+0100
TZOFFSETTO:+0200
TZNAME:CEST
DTSTART:20250330T010000
END:DAYLIGHT
BEGIN:STANDARD
TZOFFSETFROM:+0200
TZOFFSETTO:+0100
TZNAME:CET
DTSTART:20251026T010000
END:STANDARD
BEGIN:DAYLIGHT
TZOFFSETFROM:+0100
TZOFFSETTO:+0200
TZNAME:CEST
DTSTART:20260329T010000
END:DAYLIGHT
BEGIN:STANDARD
TZOFFSETFROM:+0200
TZOFFSETTO:+0100
TZNAME:CET
DTSTART:20261025T010000
END:STANDARD
END:VTIMEZONE
BEGIN:VEVENT
DTSTART;TZID=Europe/Oslo:20250409T163000
DTEND;TZID=Europe/Oslo:20250409T183000
DTSTAMP:20260421T054150
CREATED:20250214T120212Z
LAST-MODIFIED:20250214T131202Z
UID:7687-1744216200-1744223400@overlandel.no
SUMMARY:Vårmøte
DESCRIPTION:Vi møtes for å snakke sammen om sesongen som kommer\, dele et måltid og bli bedre kjent med hverandre. Er du ny i år er det spesielt fin å være med på dette slik at du kan møte gartenerne og få svar på praktiske spørsmål og alt du måtte lure på. \nOm interesse kan nye andelshavere bli med en tur ned på jordet for en rask omvisning etter møtet. \nMeld deg på slik at vi vet hvor mye suppe og brød vi skal beregne!
URL:https://overlandel.no/arrangement/varmote/
CATEGORIES:Medlemsmøter
ATTACH;FMTTYPE=image/png:https://overlandel.no/wp-content/uploads/2025/02/varmote.png
END:VEVENT
END:VCALENDAR