BEGIN:VCALENDAR
VERSION:2.0
PRODID:-//Øverland Andelslandbruk - ECPv6.15.20//NONSGML v1.0//EN
CALSCALE:GREGORIAN
METHOD:PUBLISH
X-WR-CALNAME:Øverland Andelslandbruk
X-ORIGINAL-URL:https://overlandel.no
X-WR-CALDESC:Arrangement for Øverland Andelslandbruk
REFRESH-INTERVAL;VALUE=DURATION:PT1H
X-Robots-Tag:noindex
X-PUBLISHED-TTL:PT1H
BEGIN:VTIMEZONE
TZID:Europe/Oslo
BEGIN:DAYLIGHT
TZOFFSETFROM:+0100
TZOFFSETTO:+0200
TZNAME:CEST
DTSTART:20240331T010000
END:DAYLIGHT
BEGIN:STANDARD
TZOFFSETFROM:+0200
TZOFFSETTO:+0100
TZNAME:CET
DTSTART:20241027T010000
END:STANDARD
BEGIN:DAYLIGHT
TZOFFSETFROM:+0100
TZOFFSETTO:+0200
TZNAME:CEST
DTSTART:20250330T010000
END:DAYLIGHT
BEGIN:STANDARD
TZOFFSETFROM:+0200
TZOFFSETTO:+0100
TZNAME:CET
DTSTART:20251026T010000
END:STANDARD
BEGIN:DAYLIGHT
TZOFFSETFROM:+0100
TZOFFSETTO:+0200
TZNAME:CEST
DTSTART:20260329T010000
END:DAYLIGHT
BEGIN:STANDARD
TZOFFSETFROM:+0200
TZOFFSETTO:+0100
TZNAME:CET
DTSTART:20261025T010000
END:STANDARD
END:VTIMEZONE
BEGIN:VEVENT
DTSTART;VALUE=DATE:20250702
DTEND;VALUE=DATE:20250703
DTSTAMP:20260421T014804
CREATED:20250627T090951Z
LAST-MODIFIED:20250627T090951Z
UID:8490-1751414400-1751500799@overlandel.no
SUMMARY:Hverdagsdugnad
DESCRIPTION:Hver onsdag fra april til oktober har vi dugnad på jordet fra kl 13 til 19. Kom når det passer og bli 1\, 2 eller 6 timer 🙂 \nVi spiser suppe m/ brød sammen under pergolaen ca kl 1630. Både de som har hatt en arbeidsøkt og de som kommer rett fra jobb sultne og trenger en matbit før vi starter er velkomne!
URL:https://overlandel.no/arrangement/hverdagsdugnad-2juli/
CATEGORIES:Dugnad
ATTACH;FMTTYPE=image/png:https://overlandel.no/wp-content/uploads/2025/02/onsdagsdugnad.png
END:VEVENT
BEGIN:VEVENT
DTSTART;VALUE=DATE:20250709
DTEND;VALUE=DATE:20250710
DTSTAMP:20260421T014804
CREATED:20250627T091029Z
LAST-MODIFIED:20250627T091029Z
UID:8491-1752019200-1752105599@overlandel.no
SUMMARY:Hverdagsdugnad
DESCRIPTION:Hver onsdag fra april til oktober har vi dugnad på jordet fra kl 13 til 19. Kom når det passer og bli 1\, 2 eller 6 timer 🙂 \nVi spiser suppe m/ brød sammen under pergolaen ca kl 1630. Både de som har hatt en arbeidsøkt og de som kommer rett fra jobb sultne og trenger en matbit før vi starter er velkomne!
URL:https://overlandel.no/arrangement/hverdagsdugnad-9juli/
CATEGORIES:Dugnad
ATTACH;FMTTYPE=image/png:https://overlandel.no/wp-content/uploads/2025/02/onsdagsdugnad.png
END:VEVENT
BEGIN:VEVENT
DTSTART;TZID=Europe/Oslo:20250710T203000
DTEND;TZID=Europe/Oslo:20250710T220000
DTSTAMP:20260421T014804
CREATED:20250619T062955Z
LAST-MODIFIED:20250619T062955Z
UID:8425-1752179400-1752184800@overlandel.no
SUMMARY:Fullmåne-seremoni med manifistering og seremoniell kakao 10.juli
DESCRIPTION:Velkommen til fullmåne-seremoni på vakre Øverland Gård!\n\nFullmåne seremoni er en kraftfull praksis for å gi slipp på det som ikke lenger tjener oss – enten det er gamle mønstre\, begrensende tanker eller det vi har mistet. Gjennom en kombinasjon av kakaoseremoni og trommereise skaper vi et hellig rom for refleksjon\, frigjøring og ny klarhet\, slik at vi kan bevege oss videre med letthet og visdom.\nKakao seremonien hjelper oss med å åpne hjertet og komme i dypere kontakt med våre følelser og intensjoner. Kakaoen\, en plante kjent for sine hjertemykne egenskaper\, støtter oss i prosessen med å gi slipp og gir oss en følelse av indre ro og forbindelse. Meditasjon\, pust og intuitiv bevegelse kan være en del av opplevelsen\, og sammen skaper vi en trygg og nærende atmosfære for transformasjon.\n\nHusk å kle deg etter vær\, seremonien blir utendørs. Kom med åpent hjerte og åpent sinn. Du deltar så mye du er komfortabel med.\n\n\nÅpning av sirkel\nBreathwork\nMeditasjon\nJournaling\nKvitte oss med det som ikke servere oss lenger\nTrommereise rundt bålet\nSeremoniell kakao\nHo`oponopono\nDans rundt bålet\nTakknemlighet\nLukking av sirkel\n\n\nPris er 555.- kr eller 333.- for medlemmer av Øverland Andelslandbruk.\nSpørsmål sendes til healthyactivemama@gmail.com
URL:https://overlandel.no/arrangement/fullmane-seremoni-med-manifistering-og-seremoniell-kakao-10-juli/
LOCATION:Øverland Andelslandbruk\, Gml. Ringeriksvei 123\, Bekkestua\, Bekkestua\, 1356\, Norway
CATEGORIES:Kurs
ATTACH;FMTTYPE=image/png:https://overlandel.no/wp-content/uploads/2025/06/fullmane-1.png
ORGANIZER;CN="Audur Siggurdardottir":MAILTO:healthyactivemama@gmail.com
END:VEVENT
BEGIN:VEVENT
DTSTART;VALUE=DATE:20250716
DTEND;VALUE=DATE:20250717
DTSTAMP:20260421T014804
CREATED:20250627T091102Z
LAST-MODIFIED:20250627T091102Z
UID:8492-1752624000-1752710399@overlandel.no
SUMMARY:Hverdagsdugnad
DESCRIPTION:Hver onsdag fra april til oktober har vi dugnad på jordet fra kl 13 til 19. Kom når det passer og bli 1\, 2 eller 6 timer 🙂 \nVi spiser suppe m/ brød sammen under pergolaen ca kl 1630. Både de som har hatt en arbeidsøkt og de som kommer rett fra jobb sultne og trenger en matbit før vi starter er velkomne!
URL:https://overlandel.no/arrangement/hverdagsdugnad-16juli/
CATEGORIES:Dugnad
ATTACH;FMTTYPE=image/png:https://overlandel.no/wp-content/uploads/2025/02/onsdagsdugnad.png
END:VEVENT
BEGIN:VEVENT
DTSTART;VALUE=DATE:20250723
DTEND;VALUE=DATE:20250724
DTSTAMP:20260421T014804
CREATED:20250627T091138Z
LAST-MODIFIED:20250627T091138Z
UID:8493-1753228800-1753315199@overlandel.no
SUMMARY:Hverdagsdugnad
DESCRIPTION:Hver onsdag fra april til oktober har vi dugnad på jordet fra kl 13 til 19. Kom når det passer og bli 1\, 2 eller 6 timer 🙂 \nVi spiser suppe m/ brød sammen under pergolaen ca kl 1630. Både de som har hatt en arbeidsøkt og de som kommer rett fra jobb sultne og trenger en matbit før vi starter er velkomne!
URL:https://overlandel.no/arrangement/hverdagsdugnad-23juli/
CATEGORIES:Dugnad
ATTACH;FMTTYPE=image/png:https://overlandel.no/wp-content/uploads/2025/02/onsdagsdugnad.png
END:VEVENT
BEGIN:VEVENT
DTSTART;VALUE=DATE:20250730
DTEND;VALUE=DATE:20250731
DTSTAMP:20260421T014804
CREATED:20250627T091218Z
LAST-MODIFIED:20250627T091218Z
UID:8498-1753833600-1753919999@overlandel.no
SUMMARY:Hverdagsdugnad
DESCRIPTION:Hver onsdag fra april til oktober har vi dugnad på jordet fra kl 13 til 19. Kom når det passer og bli 1\, 2 eller 6 timer 🙂 \nVi spiser suppe m/ brød sammen under pergolaen ca kl 1630. Både de som har hatt en arbeidsøkt og de som kommer rett fra jobb sultne og trenger en matbit før vi starter er velkomne!
URL:https://overlandel.no/arrangement/hverdagsdugnad-30juli/
CATEGORIES:Dugnad
ATTACH;FMTTYPE=image/png:https://overlandel.no/wp-content/uploads/2025/02/onsdagsdugnad.png
END:VEVENT
END:VCALENDAR