BEGIN:VCALENDAR
VERSION:2.0
PRODID:-//Øverland Andelslandbruk - ECPv6.15.17.1//NONSGML v1.0//EN
CALSCALE:GREGORIAN
METHOD:PUBLISH
X-WR-CALNAME:Øverland Andelslandbruk
X-ORIGINAL-URL:https://overlandel.no
X-WR-CALDESC:Arrangement for Øverland Andelslandbruk
REFRESH-INTERVAL;VALUE=DURATION:PT1H
X-Robots-Tag:noindex
X-PUBLISHED-TTL:PT1H
BEGIN:VTIMEZONE
TZID:Europe/Oslo
BEGIN:DAYLIGHT
TZOFFSETFROM:+0100
TZOFFSETTO:+0200
TZNAME:CEST
DTSTART:20240331T010000
END:DAYLIGHT
BEGIN:STANDARD
TZOFFSETFROM:+0200
TZOFFSETTO:+0100
TZNAME:CET
DTSTART:20241027T010000
END:STANDARD
BEGIN:DAYLIGHT
TZOFFSETFROM:+0100
TZOFFSETTO:+0200
TZNAME:CEST
DTSTART:20250330T010000
END:DAYLIGHT
BEGIN:STANDARD
TZOFFSETFROM:+0200
TZOFFSETTO:+0100
TZNAME:CET
DTSTART:20251026T010000
END:STANDARD
BEGIN:DAYLIGHT
TZOFFSETFROM:+0100
TZOFFSETTO:+0200
TZNAME:CEST
DTSTART:20260329T010000
END:DAYLIGHT
BEGIN:STANDARD
TZOFFSETFROM:+0200
TZOFFSETTO:+0100
TZNAME:CET
DTSTART:20261025T010000
END:STANDARD
END:VTIMEZONE
BEGIN:VEVENT
DTSTART;VALUE=DATE:20250806
DTEND;VALUE=DATE:20250807
DTSTAMP:20260420T225005
CREATED:20250731T135006Z
LAST-MODIFIED:20250731T135006Z
UID:8670-1754438400-1754524799@overlandel.no
SUMMARY:Hverdagsdugnad
DESCRIPTION:Hver onsdag fra april til oktober har vi dugnad på jordet fra kl 13 til 19. Kom når det passer og bli 1\, 2 eller 6 timer 🙂 \nVi spiser suppe m/ brød sammen under pergolaen ca kl 1630. Både de som har hatt en arbeidsøkt og de som kommer rett fra jobb sultne og trenger en matbit før vi starter er velkomne!
URL:https://overlandel.no/arrangement/hverdagsdugnad-6aug/
CATEGORIES:Dugnad
ATTACH;FMTTYPE=image/png:https://overlandel.no/wp-content/uploads/2025/02/onsdagsdugnad.png
END:VEVENT
BEGIN:VEVENT
DTSTART;TZID=Europe/Oslo:20250808T203000
DTEND;TZID=Europe/Oslo:20250808T220000
DTSTAMP:20260420T225005
CREATED:20250731T145436Z
LAST-MODIFIED:20250731T145436Z
UID:8714-1754685000-1754690400@overlandel.no
SUMMARY:Fullmåne-seremoni med manifistering og seremoniell kakao 8. august
DESCRIPTION:Velkommen til fullmåne-seremoni på vakre Øverland Gård!\n\nFullmåne seremoni er en kraftfull praksis for å gi slipp på det som ikke lenger tjener oss – enten det er gamle mønstre\, begrensende tanker eller det vi har mistet. Gjennom en kombinasjon av kakaoseremoni og trommereise skaper vi et hellig rom for refleksjon\, frigjøring og ny klarhet\, slik at vi kan bevege oss videre med letthet og visdom.\nKakao seremonien hjelper oss med å åpne hjertet og komme i dypere kontakt med våre følelser og intensjoner. Kakaoen\, en plante kjent for sine hjertemykne egenskaper\, støtter oss i prosessen med å gi slipp og gir oss en følelse av indre ro og forbindelse. Meditasjon\, pust og intuitiv bevegelse kan være en del av opplevelsen\, og sammen skaper vi en trygg og nærende atmosfære for transformasjon.\n\nHusk å kle deg etter vær\, seremonien blir utendørs. Kom med åpent hjerte og åpent sinn. Du deltar så mye du er komfortabel med.\n\n\nÅpning av sirkel\nBreathwork\nMeditasjon\nJournaling\nKvitte oss med det som ikke servere oss lenger\nTrommereise rundt bålet\nSeremoniell kakao\nHo`oponopono\nDans rundt bålet\nTakknemlighet\nLukking av sirkel\n\n\nPris er 555.- kr eller 333.- for medlemmer av Øverland Andelslandbruk.\nSpørsmål sendes til healthyactivemama@gmail.com
URL:https://overlandel.no/arrangement/fullmane-seremoni-med-manifistering-og-seremoniell-kakao-8-august/
LOCATION:Øverland Andelslandbruk\, Gml. Ringeriksvei 123\, Bekkestua\, Bekkestua\, 1356\, Norway
CATEGORIES:Kurs
ATTACH;FMTTYPE=image/png:https://overlandel.no/wp-content/uploads/2025/07/fullmane-2.png
ORGANIZER;CN="Audur Siggurdardottir":MAILTO:healthyactivemama@gmail.com
END:VEVENT
BEGIN:VEVENT
DTSTART;VALUE=DATE:20250809
DTEND;VALUE=DATE:20250810
DTSTAMP:20260420T225005
CREATED:20250731T135318Z
LAST-MODIFIED:20250731T135318Z
UID:8678-1754697600-1754783999@overlandel.no
SUMMARY:Lørdagsdugnad
DESCRIPTION:Hver lørdag fra april til oktober har vi dugnad på jordet fra kl 10 til 15. Det blir en økt fra 10 til 12 og en ny økt fra 13-15. Mellom øktene spiser vi gjerne sammen. Vi satser på kaffe og vaffel som fast innslag.
URL:https://overlandel.no/arrangement/lordagsdugnad-9aug/
CATEGORIES:Dugnad
ATTACH;FMTTYPE=image/png:https://overlandel.no/wp-content/uploads/2025/02/lordagsdugnad.png
END:VEVENT
BEGIN:VEVENT
DTSTART;VALUE=DATE:20250813
DTEND;VALUE=DATE:20250814
DTSTAMP:20260420T225005
CREATED:20250731T135044Z
LAST-MODIFIED:20250731T135044Z
UID:8671-1755043200-1755129599@overlandel.no
SUMMARY:Hverdagsdugnad
DESCRIPTION:Hver onsdag fra april til oktober har vi dugnad på jordet fra kl 13 til 19. Kom når det passer og bli 1\, 2 eller 6 timer 🙂 \nVi spiser suppe m/ brød sammen under pergolaen ca kl 1630. Både de som har hatt en arbeidsøkt og de som kommer rett fra jobb sultne og trenger en matbit før vi starter er velkomne!
URL:https://overlandel.no/arrangement/hverdagsdugnad-13aug/
CATEGORIES:Dugnad
ATTACH;FMTTYPE=image/png:https://overlandel.no/wp-content/uploads/2025/02/onsdagsdugnad.png
END:VEVENT
BEGIN:VEVENT
DTSTART;VALUE=DATE:20250816
DTEND;VALUE=DATE:20250817
DTSTAMP:20260420T225005
CREATED:20250731T135512Z
LAST-MODIFIED:20250731T135512Z
UID:8680-1755302400-1755388799@overlandel.no
SUMMARY:Lørdagsdugnad
DESCRIPTION:Hver lørdag fra april til oktober har vi dugnad på jordet fra kl 10 til 15. Det blir en økt fra 10 til 12 og en ny økt fra 13-15. Mellom øktene spiser vi gjerne sammen. Vi satser på kaffe og vaffel som fast innslag.
URL:https://overlandel.no/arrangement/lordagsdugnad-16aug/
CATEGORIES:Dugnad
ATTACH;FMTTYPE=image/png:https://overlandel.no/wp-content/uploads/2025/02/lordagsdugnad.png
END:VEVENT
BEGIN:VEVENT
DTSTART;VALUE=DATE:20250820
DTEND;VALUE=DATE:20250821
DTSTAMP:20260420T225005
CREATED:20250731T135120Z
LAST-MODIFIED:20250731T135120Z
UID:8672-1755648000-1755734399@overlandel.no
SUMMARY:Hverdagsdugnad
DESCRIPTION:Hver onsdag fra april til oktober har vi dugnad på jordet fra kl 13 til 19. Kom når det passer og bli 1\, 2 eller 6 timer 🙂 \nVi spiser suppe m/ brød sammen under pergolaen ca kl 1630. Både de som har hatt en arbeidsøkt og de som kommer rett fra jobb sultne og trenger en matbit før vi starter er velkomne!
URL:https://overlandel.no/arrangement/hverdagsdugnad-20aug/
CATEGORIES:Dugnad
ATTACH;FMTTYPE=image/png:https://overlandel.no/wp-content/uploads/2025/02/onsdagsdugnad.png
END:VEVENT
BEGIN:VEVENT
DTSTART;TZID=Europe/Oslo:20250822T203000
DTEND;TZID=Europe/Oslo:20250822T220000
DTSTAMP:20260420T225005
CREATED:20250731T145730Z
LAST-MODIFIED:20250731T150008Z
UID:8719-1755894600-1755900000@overlandel.no
SUMMARY:Nymåne-seremoni med manifistering og seremoniell kakao 22. august
DESCRIPTION:Velkommen til nymåne-seremoni på Øverland!\n\nNymåne-seremoni er en kraftfull praksis for å sette intensjoner og manifestere. Nymånen markerer starten på en ny syklus\, hvor månen er usynlig på himmelen – en tid for stillhet\, refleksjon og muligheten til å plante nye frø i vårt liv. Energien er på sitt mest mottakelige\, og universet støtter oss i å skape endring og tiltrekke det vi ønsker.\n\nI denne seremonien samles vi i sirkel\, åpner hjertene gjennom en kakaoseremoni og forsterker våre manifestasjoner ved å dele dem med hverandre\, (om du er komfortabel). Kraften av fellesskap og naturens tilstedeværelse forankres intensjonene dypere. Etter seremonien opplever mange en følelse av klarhet\, indre ro og en sterkere forbindelse til sin vei fremover.\n\nHusk å kle deg etter vær\, seremonien blir utendørs. Kom med åpent hjerte og åpent sinn. Du deltar så mye du er komfortabel med:\n\nÅpning av sirkel\nBreathwork\nJournaling\nSharing\nManifesterings Meditasjon\nSeremoniell kakao\nDans rundt bålet\nIntensjon/Affirmasjon\nTakknemlighet\nLukking av sirkel\n\nPris er 555.- kr eller 333.- for medlemmer av Øverland Andelslandbruk.\nSpørsmål sendes til healthyactivemama@gmail.com
URL:https://overlandel.no/arrangement/nymane-seremoni-med-manifistering-og-seremoniell-kakao-22-aug/
LOCATION:Øverland Andelslandbruk\, Gml. Ringeriksvei 123\, Bekkestua\, Bekkestua\, 1356\, Norway
CATEGORIES:Kurs
ATTACH;FMTTYPE=image/png:https://overlandel.no/wp-content/uploads/2025/07/nymane-5.png
ORGANIZER;CN="Audur Siggurdardottir":MAILTO:healthyactivemama@gmail.com
END:VEVENT
BEGIN:VEVENT
DTSTART;VALUE=DATE:20250823
DTEND;VALUE=DATE:20250824
DTSTAMP:20260420T225005
CREATED:20250731T135545Z
LAST-MODIFIED:20250731T135545Z
UID:8681-1755907200-1755993599@overlandel.no
SUMMARY:Lørdagsdugnad
DESCRIPTION:Hver lørdag fra april til oktober har vi dugnad på jordet fra kl 10 til 15. Det blir en økt fra 10 til 12 og en ny økt fra 13-15. Mellom øktene spiser vi gjerne sammen. Vi satser på kaffe og vaffel som fast innslag.
URL:https://overlandel.no/arrangement/lordagsdugnad-23aug/
CATEGORIES:Dugnad
ATTACH;FMTTYPE=image/png:https://overlandel.no/wp-content/uploads/2025/02/lordagsdugnad.png
END:VEVENT
BEGIN:VEVENT
DTSTART;VALUE=DATE:20250827
DTEND;VALUE=DATE:20250828
DTSTAMP:20260420T225005
CREATED:20250731T135152Z
LAST-MODIFIED:20250731T135152Z
UID:8673-1756252800-1756339199@overlandel.no
SUMMARY:Hverdagsdugnad
DESCRIPTION:Hver onsdag fra april til oktober har vi dugnad på jordet fra kl 13 til 19. Kom når det passer og bli 1\, 2 eller 6 timer 🙂 \nVi spiser suppe m/ brød sammen under pergolaen ca kl 1630. Både de som har hatt en arbeidsøkt og de som kommer rett fra jobb sultne og trenger en matbit før vi starter er velkomne!
URL:https://overlandel.no/arrangement/hverdagsdugnad-27aug/
CATEGORIES:Dugnad
ATTACH;FMTTYPE=image/png:https://overlandel.no/wp-content/uploads/2025/02/onsdagsdugnad.png
END:VEVENT
END:VCALENDAR