BEGIN:VCALENDAR
VERSION:2.0
PRODID:-//Øverland Andelslandbruk - ECPv6.15.17.1//NONSGML v1.0//EN
CALSCALE:GREGORIAN
METHOD:PUBLISH
X-ORIGINAL-URL:https://overlandel.no
X-WR-CALDESC:Arrangement for Øverland Andelslandbruk
REFRESH-INTERVAL;VALUE=DURATION:PT1H
X-Robots-Tag:noindex
X-PUBLISHED-TTL:PT1H
BEGIN:VTIMEZONE
TZID:Europe/Oslo
BEGIN:DAYLIGHT
TZOFFSETFROM:+0100
TZOFFSETTO:+0200
TZNAME:CEST
DTSTART:20240331T010000
END:DAYLIGHT
BEGIN:STANDARD
TZOFFSETFROM:+0200
TZOFFSETTO:+0100
TZNAME:CET
DTSTART:20241027T010000
END:STANDARD
BEGIN:DAYLIGHT
TZOFFSETFROM:+0100
TZOFFSETTO:+0200
TZNAME:CEST
DTSTART:20250330T010000
END:DAYLIGHT
BEGIN:STANDARD
TZOFFSETFROM:+0200
TZOFFSETTO:+0100
TZNAME:CET
DTSTART:20251026T010000
END:STANDARD
BEGIN:DAYLIGHT
TZOFFSETFROM:+0100
TZOFFSETTO:+0200
TZNAME:CEST
DTSTART:20260329T010000
END:DAYLIGHT
BEGIN:STANDARD
TZOFFSETFROM:+0200
TZOFFSETTO:+0100
TZNAME:CET
DTSTART:20261025T010000
END:STANDARD
END:VTIMEZONE
BEGIN:VEVENT
DTSTART;VALUE=DATE:20250903
DTEND;VALUE=DATE:20250904
DTSTAMP:20260420T210957
CREATED:20250731T140318Z
LAST-MODIFIED:20250731T140318Z
UID:8697-1756857600-1756943999@overlandel.no
SUMMARY:Hverdagsdugnad
DESCRIPTION:Hver onsdag fra april til oktober har vi dugnad på jordet fra kl 13 til 19. Kom når det passer og bli 1\, 2 eller 6 timer 🙂 \nVi spiser suppe m/ brød sammen under pergolaen ca kl 1630. Både de som har hatt en arbeidsøkt og de som kommer rett fra jobb sultne og trenger en matbit før vi starter er velkomne!
URL:https://overlandel.no/arrangement/hverdagsdugnad-3sept/
CATEGORIES:Dugnad
ATTACH;FMTTYPE=image/png:https://overlandel.no/wp-content/uploads/2025/02/onsdagsdugnad.png
END:VEVENT
BEGIN:VEVENT
DTSTART;VALUE=DATE:20250906
DTEND;VALUE=DATE:20250907
DTSTAMP:20260420T210957
CREATED:20250731T135713Z
LAST-MODIFIED:20250731T135713Z
UID:8683-1757116800-1757203199@overlandel.no
SUMMARY:Lørdagsdugnad
DESCRIPTION:Hver lørdag fra april til oktober har vi dugnad på jordet fra kl 10 til 15. Det blir en økt fra 10 til 12 og en ny økt fra 13-15. Mellom øktene spiser vi gjerne sammen. Vi satser på kaffe og vaffel som fast innslag.
URL:https://overlandel.no/arrangement/lordagsdugnad-6sept/
CATEGORIES:Dugnad
ATTACH;FMTTYPE=image/png:https://overlandel.no/wp-content/uploads/2025/02/lordagsdugnad.png
END:VEVENT
BEGIN:VEVENT
DTSTART;VALUE=DATE:20250910
DTEND;VALUE=DATE:20250911
DTSTAMP:20260420T210957
CREATED:20250731T140347Z
LAST-MODIFIED:20250731T140347Z
UID:8698-1757462400-1757548799@overlandel.no
SUMMARY:Hverdagsdugnad
DESCRIPTION:Hver onsdag fra april til oktober har vi dugnad på jordet fra kl 13 til 19. Kom når det passer og bli 1\, 2 eller 6 timer 🙂 \nVi spiser suppe m/ brød sammen under pergolaen ca kl 1630. Både de som har hatt en arbeidsøkt og de som kommer rett fra jobb sultne og trenger en matbit før vi starter er velkomne!
URL:https://overlandel.no/arrangement/hverdagsdugnad-10sept/
CATEGORIES:Dugnad
ATTACH;FMTTYPE=image/png:https://overlandel.no/wp-content/uploads/2025/02/onsdagsdugnad.png
END:VEVENT
BEGIN:VEVENT
DTSTART;VALUE=DATE:20250913
DTEND;VALUE=DATE:20250914
DTSTAMP:20260420T210957
CREATED:20250731T135744Z
LAST-MODIFIED:20250731T135744Z
UID:8684-1757721600-1757807999@overlandel.no
SUMMARY:Lørdagsdugnad
DESCRIPTION:Hver lørdag fra april til oktober har vi dugnad på jordet fra kl 10 til 15. Det blir en økt fra 10 til 12 og en ny økt fra 13-15. Mellom øktene spiser vi gjerne sammen. Vi satser på kaffe og vaffel som fast innslag.
URL:https://overlandel.no/arrangement/lordagsdugnad-13sept/
CATEGORIES:Dugnad
ATTACH;FMTTYPE=image/png:https://overlandel.no/wp-content/uploads/2025/02/lordagsdugnad.png
END:VEVENT
BEGIN:VEVENT
DTSTART;TZID=Europe/Oslo:20250914T110000
DTEND;TZID=Europe/Oslo:20250914T150000
DTSTAMP:20260420T210957
CREATED:20250627T091728Z
LAST-MODIFIED:20250627T092038Z
UID:8500-1757847600-1757862000@overlandel.no
SUMMARY:Høstmarked
DESCRIPTION:I anledning ØKOUKA arrangerer vi høstmarked på andelslandbruket. Det blir salgsboder fra mange lokale aktører med økologiske og biodynamiske godsaker. Kjøtt\, mel\, honning\, grønnsaker\, egg\, ost\, krydder\, eplejuce\, mulighet for å bestille årets lam og mye mye mer. \nDet blir selvsagt servering av øverlandvaffel med det beste sesongen har å by på! \nEr du nysgjerrig på andelslandbruket er dette en ypperlig anledning til å stikke innom og sjekke det ut! \n  \nGratis inngang og parkering \n  \nPROGRAM FOR DAGEN:\n  \nKommer! \n  \n  \n  \n 
URL:https://overlandel.no/arrangement/hostmarked/
LOCATION:Øverland Andelslandbruk\, Gml. Ringeriksvei 123\, Bekkestua\, Bekkestua\, 1356\, Norway
CATEGORIES:Åpne arrangementer
ATTACH;FMTTYPE=image/png:https://overlandel.no/wp-content/uploads/2025/06/hostmarked.png
ORGANIZER;CN="Marianne R%C3%B8ed Steinsskogen":MAILTO:post@overlandel.no
END:VEVENT
BEGIN:VEVENT
DTSTART;TZID=Europe/Oslo:20250915T170000
DTEND;TZID=Europe/Oslo:20250915T193000
DTSTAMP:20260420T210957
CREATED:20250904T204423Z
LAST-MODIFIED:20250906T052447Z
UID:8863-1757955600-1757964600@overlandel.no
SUMMARY:Kurs i melkesyregjæring & fermentering
DESCRIPTION:Rita Amunsen har vært andelshaver hos oss helt siden den spede begynnelse og er utrolig kunnskapsrik og inspirerende. Hun har holdt kurs i fermentering og melkesyregjæring (blant annet) i en årrekke og 16. september vil hun igjen holde kurs for andelshavere og andre interesserte.  \nHer er hva Rita selv sier om mekesyregjæring: \nVelkommen inn i en verden av mat som bobbler av livskraft og energi. Melkesyregjærende grønnsaker og andre gjærede/fermenterte produkter\, laget hjemme på kjøkkenet\, smaker vidunderlig godt! Har man en gang fått sansen for slik mat vil kroppen bare ha mer av det. \nMelkesyregjæret mat og drikker hjelper oss til å få vårt «indre system» i orden. Mange av dagens helseproblemer (både fysiske og psykiske) kommer av at vi har en fordøyelse som ikke fungerer optimalt – denne typen mat er fantastisk godt både for gane og mage. Dette er mat som støtter vår fordøyelse og vårt immunforsvar. Det er en fantastisk konservering- og videreforedlingsmetode for grønnsaker og ville vekster. Tradisjonelt har man i Europa melksyregjæret hodekål (Sauerkraut) \, men alt av grønnsaker kan brukes og en kombinasjon av forskjellige grønnsaker og ville vekster blir veldig godt. \nAlt dette vil du få høre mer om og lære om på kurset. Ta med et glass eller tre med lokk om du ønsker å ha med noe hjem. Et stort norgesglass eller flere små syltetøyglass går fint.
URL:https://overlandel.no/arrangement/kurs-i-melkesyregjaering-fermentering/
CATEGORIES:Kurs
ATTACH;FMTTYPE=image/png:https://overlandel.no/wp-content/uploads/2025/09/melkesyregjaering-2.png
END:VEVENT
BEGIN:VEVENT
DTSTART;VALUE=DATE:20250917
DTEND;VALUE=DATE:20250918
DTSTAMP:20260420T210957
CREATED:20250731T140443Z
LAST-MODIFIED:20250731T142257Z
UID:8699-1758067200-1758153599@overlandel.no
SUMMARY:Hverdagsdugnad - Potetopptak starter (om været vil)!
DESCRIPTION:Hver onsdag fra april til oktober har vi dugnad på jordet fra kl 13 til 19. Kom når det passer og bli 1\, 2 eller 6 timer 🙂 \nVi spiser suppe m/ brød sammen under pergolaen ca kl 1630. Både de som har hatt en arbeidsøkt og de som kommer rett fra jobb sultne og trenger en matbit før vi starter er velkomne!
URL:https://overlandel.no/arrangement/hverdagsdugnad-17sept/
CATEGORIES:Dugnad
ATTACH;FMTTYPE=image/png:https://overlandel.no/wp-content/uploads/2025/07/POTET-3.png
END:VEVENT
BEGIN:VEVENT
DTSTART;VALUE=DATE:20250920
DTEND;VALUE=DATE:20250921
DTSTAMP:20260420T210957
CREATED:20250731T135931Z
LAST-MODIFIED:20250731T142049Z
UID:8685-1758326400-1758412799@overlandel.no
SUMMARY:Lørdagsdugnad - potetopptak (om været vil!)
DESCRIPTION:Om værgudene er på vår side starter vi potetopptaket denne uka\, med en real økt onsdag\, fortsetter utover i uke på dagtid og med en real økt lørdag og søndag. Søndag sikrer vi forhåpentlig de siste potetene inn på lager\, rydder opp og feirer innhøstingen sammen med et felles måltid. Basert på potet så klart! \nVelkommen til arbeidsomme og morsomme dager\, felles innsats og hygge 🥔🥔🥔💪🏼🍽🙏🏽💚
URL:https://overlandel.no/arrangement/lordagsdugnad-20sept/
CATEGORIES:Dugnad
ATTACH;FMTTYPE=image/png:https://overlandel.no/wp-content/uploads/2025/07/POTET-2.png
END:VEVENT
BEGIN:VEVENT
DTSTART;VALUE=DATE:20250921
DTEND;VALUE=DATE:20250922
DTSTAMP:20260420T210957
CREATED:20250731T141530Z
LAST-MODIFIED:20250904T214955Z
UID:8706-1758412800-1758499199@overlandel.no
SUMMARY:Søndagsdugnad - potetopptak avsluttning & intern høsttakkefest
DESCRIPTION:Om værgudene er på vår side starter vi potetopptaket denne uka\, med en real økt onsdag\, fortsetter utover i uke på dagtid og med en real økt lørdag og søndag. Søndag sikrer vi forhåpentlig de siste potetene inn på lager\, rydder opp og feirer innhøstingen sammen med et felles måltid. Basert på potet så klart! \nVelkommen til arbeidsomme og morsomme dager\, felles innsats og felles hygge 🥔🥔🥔💪🏼🍽🙏🏽💚
URL:https://overlandel.no/arrangement/sondagsdugnad-potetopptak-avsluttning-intern-hosttakkefest/
CATEGORIES:Dugnad
ATTACH;FMTTYPE=image/png:https://overlandel.no/wp-content/uploads/2025/07/POTET-fest.png
END:VEVENT
BEGIN:VEVENT
DTSTART;TZID=Europe/Oslo:20250921T200000
DTEND;TZID=Europe/Oslo:20250921T213000
DTSTAMP:20260420T210957
CREATED:20250919T080321Z
LAST-MODIFIED:20250919T080321Z
UID:8942-1758484800-1758490200@overlandel.no
SUMMARY:Nymåne-seremoni med manifistering og seremoniell kakao 21.sept
DESCRIPTION:Velkommen til nymåne-seremoni på Øverland!\n\nNymåne-seremoni er en kraftfull praksis for å sette intensjoner og manifestere. Nymånen markerer starten på en ny syklus\, hvor månen er usynlig på himmelen – en tid for stillhet\, refleksjon og muligheten til å plante nye frø i vårt liv. Energien er på sitt mest mottakelige\, og universet støtter oss i å skape endring og tiltrekke det vi ønsker.\n\nI denne seremonien samles vi i sirkel\, åpner hjertene gjennom en kakaoseremoni og forsterker våre manifestasjoner ved å dele dem med hverandre\, (om du er komfortabel). Kraften av fellesskap og naturens tilstedeværelse forankres intensjonene dypere. Etter seremonien opplever mange en følelse av klarhet\, indre ro og en sterkere forbindelse til sin vei fremover.\n\nHusk å kle deg etter vær\, seremonien blir utendørs. Kom med åpent hjerte og åpent sinn. Du deltar så mye du er komfortabel med:\n\nÅpning av sirkel\nBreathwork\nJournaling\nSharing\nManifesterings Meditasjon\nSeremoniell kakao\nDans rundt bålet\nIntensjon/Affirmasjon\nTakknemlighet\nLukking av sirkel\n\nPris er 555.- kr eller 333.- for medlemmer av Øverland Andelslandbruk.\nSpørsmål sendes til healthyactivemama@gmail.com
URL:https://overlandel.no/arrangement/nymane-seremoni-med-manifistering-og-seremoniell-kakao-21-sept/
LOCATION:Øverland Andelslandbruk\, Gml. Ringeriksvei 123\, Bekkestua\, Bekkestua\, 1356\, Norway
CATEGORIES:Kurs
ATTACH;FMTTYPE=image/png:https://overlandel.no/wp-content/uploads/2025/09/nymane-6.png
ORGANIZER;CN="Audur Siggurdardottir":MAILTO:healthyactivemama@gmail.com
END:VEVENT
BEGIN:VEVENT
DTSTART;VALUE=DATE:20250924
DTEND;VALUE=DATE:20250925
DTSTAMP:20260420T210957
CREATED:20250731T140528Z
LAST-MODIFIED:20250731T140528Z
UID:8700-1758672000-1758758399@overlandel.no
SUMMARY:Hverdagsdugnad
DESCRIPTION:Hver onsdag fra april til oktober har vi dugnad på jordet fra kl 13 til 19. Kom når det passer og bli 1\, 2 eller 6 timer 🙂 \nVi spiser suppe m/ brød sammen under pergolaen ca kl 1630. Både de som har hatt en arbeidsøkt og de som kommer rett fra jobb sultne og trenger en matbit før vi starter er velkomne!
URL:https://overlandel.no/arrangement/hverdagsdugnad-24sept/
CATEGORIES:Dugnad
ATTACH;FMTTYPE=image/png:https://overlandel.no/wp-content/uploads/2025/02/onsdagsdugnad.png
END:VEVENT
BEGIN:VEVENT
DTSTART;VALUE=DATE:20250927
DTEND;VALUE=DATE:20250928
DTSTAMP:20260420T210957
CREATED:20250731T140010Z
LAST-MODIFIED:20250731T140010Z
UID:8686-1758931200-1759017599@overlandel.no
SUMMARY:Lørdagsdugnad
DESCRIPTION:Hver lørdag fra april til oktober har vi dugnad på jordet fra kl 10 til 15. Det blir en økt fra 10 til 12 og en ny økt fra 13-15. Mellom øktene spiser vi gjerne sammen. Vi satser på kaffe og vaffel som fast innslag.
URL:https://overlandel.no/arrangement/lordagsdugnad-27sept/
CATEGORIES:Dugnad
ATTACH;FMTTYPE=image/png:https://overlandel.no/wp-content/uploads/2025/02/lordagsdugnad.png
END:VEVENT
BEGIN:VEVENT
DTSTART;TZID=Europe/Oslo:20250929T170000
DTEND;TZID=Europe/Oslo:20250929T193000
DTSTAMP:20260420T210957
CREATED:20250919T075407Z
LAST-MODIFIED:20250919T075422Z
UID:8932-1759165200-1759174200@overlandel.no
SUMMARY:Kurs i melkesyregjæring & fermentering NYBEGYNNER
DESCRIPTION:Rita Amunsen har vært andelshaver hos oss helt siden den spede begynnelse og er utrolig kunnskapsrik og inspirerende. Hun har holdt kurs i fermentering og melkesyregjæring (blant annet) i en årrekke og 29 og 30. september vil hun igjen holde kurs for andelshavere og andre interesserte. 29. september er det tilpasset dem som er helt nye i gamet\, mens den 30. er det fint å ha litt forkunnskaper. Det er absolutt mulig å melde seg på begge kursene. \nHer er hva Rita selv sier om mekesyregjæring: \nVelkommen inn i en verden av mat som bobbler av livskraft og energi. Melkesyregjærende grønnsaker og andre gjærede/fermenterte produkter\, laget hjemme på kjøkkenet\, smaker vidunderlig godt! Har man en gang fått sansen for slik mat vil kroppen bare ha mer av det. \nMelkesyregjæret mat og drikker hjelper oss til å få vårt «indre system» i orden. Mange av dagens helseproblemer (både fysiske og psykiske) kommer av at vi har en fordøyelse som ikke fungerer optimalt – denne typen mat er fantastisk godt både for gane og mage. Dette er mat som støtter vår fordøyelse og vårt immunforsvar. Det er en fantastisk konservering- og videreforedlingsmetode for grønnsaker og ville vekster. Tradisjonelt har man i Europa melksyregjæret hodekål (Sauerkraut) \, men alt av grønnsaker kan brukes og en kombinasjon av forskjellige grønnsaker og ville vekster blir veldig godt. \nAlt dette vil du få høre mer om og lære om på kurset. Ta med et glass eller tre med lokk om du ønsker å ha med noe hjem. Et stort norgesglass eller flere små syltetøyglass går fint.
URL:https://overlandel.no/arrangement/kurs-i-melkesyregjaering-fermentering-nybegynner/
CATEGORIES:Kurs
ATTACH;FMTTYPE=image/png:https://overlandel.no/wp-content/uploads/2025/09/melkesyregjaering-nybegynner.png
END:VEVENT
BEGIN:VEVENT
DTSTART;TZID=Europe/Oslo:20250930T170000
DTEND;TZID=Europe/Oslo:20250930T193000
DTSTAMP:20260420T210957
CREATED:20250919T075741Z
LAST-MODIFIED:20250919T075741Z
UID:8937-1759251600-1759260600@overlandel.no
SUMMARY:Kurs i melkesyregjæring & fermentering VIDEREGÅENDE
DESCRIPTION:Rita Amunsen har vært andelshaver hos oss helt siden den spede begynnelse og er utrolig kunnskapsrik og inspirerende. Hun har holdt kurs i fermentering og melkesyregjæring (blant annet) i en årrekke og 29 og 30. september vil hun igjen holde kurs for andelshavere og andre interesserte. 29. september er det tilpasset dem som er helt nye i gamet\, mens den 30. er det fint å ha litt forkunnskaper. Det er absolutt mulig å melde seg på begge kursene. \nHer er hva Rita selv sier om mekesyregjæring: \nVelkommen inn i en verden av mat som bobbler av livskraft og energi. Melkesyregjærende grønnsaker og andre gjærede/fermenterte produkter\, laget hjemme på kjøkkenet\, smaker vidunderlig godt! Har man en gang fått sansen for slik mat vil kroppen bare ha mer av det. \nMelkesyregjæret mat og drikker hjelper oss til å få vårt «indre system» i orden. Mange av dagens helseproblemer (både fysiske og psykiske) kommer av at vi har en fordøyelse som ikke fungerer optimalt – denne typen mat er fantastisk godt både for gane og mage. Dette er mat som støtter vår fordøyelse og vårt immunforsvar. Det er en fantastisk konservering- og videreforedlingsmetode for grønnsaker og ville vekster. Tradisjonelt har man i Europa melksyregjæret hodekål (Sauerkraut) \, men alt av grønnsaker kan brukes og en kombinasjon av forskjellige grønnsaker og ville vekster blir veldig godt. \nAlt dette vil du få høre mer om og lære om på kurset. Ta med et glass eller tre med lokk om du ønsker å ha med noe hjem. Et stort norgesglass eller flere små syltetøyglass går fint.
URL:https://overlandel.no/arrangement/kurs-i-melkesyregjaering-fermentering-videregaende/
CATEGORIES:Kurs
ATTACH;FMTTYPE=image/png:https://overlandel.no/wp-content/uploads/2025/09/melkesyregjaering-videregaende.png
END:VEVENT
END:VCALENDAR