BEGIN:VCALENDAR
VERSION:2.0
PRODID:-//Øverland Andelslandbruk - ECPv6.15.17.1//NONSGML v1.0//EN
CALSCALE:GREGORIAN
METHOD:PUBLISH
X-WR-CALNAME:Øverland Andelslandbruk
X-ORIGINAL-URL:https://overlandel.no
X-WR-CALDESC:Arrangement for Øverland Andelslandbruk
REFRESH-INTERVAL;VALUE=DURATION:PT1H
X-Robots-Tag:noindex
X-PUBLISHED-TTL:PT1H
BEGIN:VTIMEZONE
TZID:Europe/Oslo
BEGIN:DAYLIGHT
TZOFFSETFROM:+0100
TZOFFSETTO:+0200
TZNAME:CEST
DTSTART:20240331T010000
END:DAYLIGHT
BEGIN:STANDARD
TZOFFSETFROM:+0200
TZOFFSETTO:+0100
TZNAME:CET
DTSTART:20241027T010000
END:STANDARD
BEGIN:DAYLIGHT
TZOFFSETFROM:+0100
TZOFFSETTO:+0200
TZNAME:CEST
DTSTART:20250330T010000
END:DAYLIGHT
BEGIN:STANDARD
TZOFFSETFROM:+0200
TZOFFSETTO:+0100
TZNAME:CET
DTSTART:20251026T010000
END:STANDARD
BEGIN:DAYLIGHT
TZOFFSETFROM:+0100
TZOFFSETTO:+0200
TZNAME:CEST
DTSTART:20260329T010000
END:DAYLIGHT
BEGIN:STANDARD
TZOFFSETFROM:+0200
TZOFFSETTO:+0100
TZNAME:CET
DTSTART:20261025T010000
END:STANDARD
END:VTIMEZONE
BEGIN:VEVENT
DTSTART;TZID=Europe/Oslo:20251102T120000
DTEND;TZID=Europe/Oslo:20251102T150000
DTSTAMP:20260420T174632
CREATED:20251031T095915Z
LAST-MODIFIED:20251031T100019Z
UID:9115-1762084800-1762095600@overlandel.no
SUMMARY:Søndagsdugnad med Bærgruppa
DESCRIPTION:Bli med bærgruppa og legge papp og flis på resten av solbærfeltet! \nDet skal lempes og kjøres mange lass…
URL:https://overlandel.no/arrangement/sondagsdugnad-med-baergruppa/
CATEGORIES:Dugnad
ATTACH;FMTTYPE=image/png:https://overlandel.no/wp-content/uploads/2025/10/BAER.png
END:VEVENT
BEGIN:VEVENT
DTSTART;TZID=Europe/Oslo:20251104T204500
DTEND;TZID=Europe/Oslo:20251104T221500
DTSTAMP:20260420T174632
CREATED:20251017T073312Z
LAST-MODIFIED:20251017T073312Z
UID:9062-1762289100-1762294500@overlandel.no
SUMMARY:Fullmåne-seremoni med manifistering og seremoniell kakao 4. nov
DESCRIPTION:Velkommen til fullmåne-seremoni på vakre Øverland Gård!\n\nFullmåne seremoni er en kraftfull praksis for å gi slipp på det som ikke lenger tjener oss – enten det er gamle mønstre\, begrensende tanker eller det vi har mistet. Gjennom en kombinasjon av kakaoseremoni og trommereise skaper vi et hellig rom for refleksjon\, frigjøring og ny klarhet\, slik at vi kan bevege oss videre med letthet og visdom.\nKakao seremonien hjelper oss med å åpne hjertet og komme i dypere kontakt med våre følelser og intensjoner. Kakaoen\, en plante kjent for sine hjertemykne egenskaper\, støtter oss i prosessen med å gi slipp og gir oss en følelse av indre ro og forbindelse. Meditasjon\, pust og intuitiv bevegelse kan være en del av opplevelsen\, og sammen skaper vi en trygg og nærende atmosfære for transformasjon.\n\nHusk å kle deg etter vær\, seremonien blir utendørs. Kom med åpent hjerte og åpent sinn. Du deltar så mye du er komfortabel med.\n\n\nÅpning av sirkel\nBreathwork\nMeditasjon\nJournaling\nKvitte oss med det som ikke servere oss lenger\nTrommereise rundt bålet\nSeremoniell kakao\nHo`oponopono\nDans rundt bålet\nTakknemlighet\nLukking av sirkel\n\n\nPris er 555.- kr eller 333.- for medlemmer av Øverland Andelslandbruk.\nSpørsmål sendes til healthyactivemama@gmail.com
URL:https://overlandel.no/arrangement/fullmane-seremoni-med-manifistering-og-seremoniell-kakao-4-nov/
LOCATION:Øverland Andelslandbruk\, Gml. Ringeriksvei 123\, Bekkestua\, Bekkestua\, 1356\, Norway
CATEGORIES:Kurs
ATTACH;FMTTYPE=image/png:https://overlandel.no/wp-content/uploads/2025/10/fullmane-4.png
ORGANIZER;CN="Audur Siggurdardottir":MAILTO:healthyactivemama@gmail.com
END:VEVENT
BEGIN:VEVENT
DTSTART;TZID=Europe/Oslo:20251107T140000
DTEND;TZID=Europe/Oslo:20251107T160000
DTSTAMP:20260420T174632
CREATED:20251031T095650Z
LAST-MODIFIED:20251031T095650Z
UID:9118-1762524000-1762531200@overlandel.no
SUMMARY:Fredagsdugnad med Hønsegruppa
DESCRIPTION:
URL:https://overlandel.no/arrangement/fredagsdugnad-med-honsegruppa/
CATEGORIES:Dugnad
ATTACH;FMTTYPE=image/png:https://overlandel.no/wp-content/uploads/2025/10/HONE.png
END:VEVENT
BEGIN:VEVENT
DTSTART;TZID=Europe/Oslo:20251108T100000
DTEND;TZID=Europe/Oslo:20251108T140000
DTSTAMP:20260420T174632
CREATED:20251031T094004Z
LAST-MODIFIED:20251031T094857Z
UID:9111-1762596000-1762610400@overlandel.no
SUMMARY:Lørdagsdugnad med Biegruppa
DESCRIPTION:Bli med biegruppa og rydde og klargjøre for vinter og vår! \nDe skal rydde i biehuset\, skjære ut voks\, smelte det\, rense rammene etc.
URL:https://overlandel.no/arrangement/lordagsdugnad-med-biegruppa/
CATEGORIES:Dugnad
ATTACH;FMTTYPE=image/png:https://overlandel.no/wp-content/uploads/2025/10/bie-1.png
END:VEVENT
BEGIN:VEVENT
DTSTART;TZID=Europe/Oslo:20251112T150000
DTEND;TZID=Europe/Oslo:20251112T173000
DTSTAMP:20260420T174632
CREATED:20251030T083032Z
LAST-MODIFIED:20251030T083828Z
UID:9105-1762959600-1762968600@overlandel.no
SUMMARY:Frøberedskapskurs med Andrew McMillion - KVANN
DESCRIPTION:Kurs i frøberedskap  \nVelkommen til kurs i frøberedskap med Andrew McMillion fra KVANN (Kunnskap om og vern av nytteplanter i Norge\, kvann.no) \nEn lokal frøhelt! \nRiktig plante på riktig sted er en forutsetning for å lykkes med god avling. Arbeidet med dette har Andrew McMillion tatt et skritt videre og jobber iherdig med avling av egne frø fra lokalt tilpassede sorter på Hurdal Gjestegård (tidligere prestegård og en av gårdene i Shubelers hager). McMillion er lidenskapelig opptatt av samspillet i naturen og økologisk dyrking på en bærekraftig måte. Her kan vi lære masse om kortreist dyrking og veien til å bli en del av et nettverk som tar vare på et stor mangfold av lokalt tilpasset frø. \nKurset om frøberedskap: \nKurset gir deg nok kunnskap til å etablere ditt eget frøberedskaps lager av lokalt tilpasset frø. Målet med kurset er å sikre at du får nok kunnskap til å avle fram sortsekte frø av kultiverte sorter\, åpenpollinerte planter\, og også av stauder og urter! \nDel 1: Inspirasjon om bærekraftig dyrkings systemer og visjonen for et nordisk matsystem som er regenerativt og bryter ned barrieren mellom mennesker og natur. Det inkluderer også litt historikk om bruksgenbanker (Community Seed Banks)\, KVANN og Schubelers hager. \nDel 2: Her går vi dypere inn i basis kunnskap om seleksjon\, klassifisering\, pollinering og det som trengs av kunnskap for å ta vare på frø. Målet er å bli en frøvokter (seed steward) som holder nordiske kultivarer sortsekte og genetisk robust. Vi trenger mage flere frøvoktere og håper at du også blir med på dette viktig arbeid som starter med denne basis kunnskap. \nAndrew tar også med seg frø så kan du selv prøve deg på kortreist dyrking i egen hage. \nLitt om foredragsholder: \nAndrew McMillion har egentlig sin bakgrunn fra IT bransjen\, men har “konvertert” til den “grønne” siden og blitt småbruker i Hurdal\, etter å ha drevet Rolstad Gård i Fenstad og Brauterhagen i Nes gjennom en årrekke. Han er plantefaglig koordinator og tidligere styremedlem i KVANN og kaller seg selv for en ekte frøfanatiker. Andrew holder kurs i frø-reproduksjon\, jordhelse\, dyrking av grønnsaker under ekstreme forhold\, drivhusdesign/bruk og økologi. Han forvalter frø fra over 100 forskjellige sorter planter. Filosofien som ligger til grunn er at frø bør tilpasses lokale forhold og ikke komme fra store selskaper i utlandet. Andrew tar vare på sorter som han mener er spesielt egnet for dyrking i området her hvor vi bor. En skikkelig entusiast med andre ord. \nPåmelding: direkte til KVANN
URL:https://overlandel.no/arrangement/froberedskapskurs/
LOCATION:Øverland Andelslandbruk\, Gml. Ringeriksvei 123\, Bekkestua\, Bekkestua\, 1356\, Norway
CATEGORIES:Kurs
ATTACH;FMTTYPE=image/png:https://overlandel.no/wp-content/uploads/2025/10/FROKURS.png
END:VEVENT
BEGIN:VEVENT
DTSTART;TZID=Europe/Oslo:20251112T180000
DTEND;TZID=Europe/Oslo:20251112T203000
DTSTAMP:20260420T174632
CREATED:20251016T104714Z
LAST-MODIFIED:20251016T104714Z
UID:9042-1762970400-1762979400@overlandel.no
SUMMARY:Høstmøte 2025
DESCRIPTION:Høstmøtet er møtet der vi sammen evaluerer sesongen og legger planer for den neste. Vi spiser og hygger oss\, går igjennom hva som har vært bra og mindre bra og hva vi kan gjøre enda bedre framover. \nVi håper du vil prioritere denne kvelden sammen med oss for å legge grunnlaget for en super 2026-sesong på Øverland! \nVi stiller med te og kaffe\, og du tar gjerne med noe til et felles matbord. \nMøtet finner sted i hovedhuset på gården \nMeld deg på slik at vi vet at du kommer.
URL:https://overlandel.no/arrangement/hostmote-2025/
LOCATION:Øverland Andelslandbruk\, Gml. Ringeriksvei 123\, Bekkestua\, Bekkestua\, 1356\, Norway
CATEGORIES:Medlemsmøter
ATTACH;FMTTYPE=image/png:https://overlandel.no/wp-content/uploads/2025/10/hostmote.png
END:VEVENT
BEGIN:VEVENT
DTSTART;TZID=Europe/Oslo:20251119T203000
DTEND;TZID=Europe/Oslo:20251119T220000
DTSTAMP:20260420T174632
CREATED:20251017T072058Z
LAST-MODIFIED:20251017T072058Z
UID:9052-1763584200-1763589600@overlandel.no
SUMMARY:Nymåne-seremoni med manifistering og seremoniell kakao 19. nov
DESCRIPTION:Velkommen til nymåne-seremoni på Øverland!\n\nNymåne-seremoni er en kraftfull praksis for å sette intensjoner og manifestere. Nymånen markerer starten på en ny syklus\, hvor månen er usynlig på himmelen – en tid for stillhet\, refleksjon og muligheten til å plante nye frø i vårt liv. Energien er på sitt mest mottakelige\, og universet støtter oss i å skape endring og tiltrekke det vi ønsker.\n\nI denne seremonien samles vi i sirkel\, åpner hjertene gjennom en kakaoseremoni og forsterker våre manifestasjoner ved å dele dem med hverandre\, (om du er komfortabel). Kraften av fellesskap og naturens tilstedeværelse forankres intensjonene dypere. Etter seremonien opplever mange en følelse av klarhet\, indre ro og en sterkere forbindelse til sin vei fremover.\n\nHusk å kle deg etter vær\, seremonien blir utendørs. Kom med åpent hjerte og åpent sinn. Du deltar så mye du er komfortabel med:\n\nÅpning av sirkel\nBreathwork\nJournaling\nSharing\nManifesterings Meditasjon\nSeremoniell kakao\nDans rundt bålet\nIntensjon/Affirmasjon\nTakknemlighet\nLukking av sirkel\n\nPris er 555.- kr eller 333.- for medlemmer av Øverland Andelslandbruk.\nSpørsmål sendes til healthyactivemama@gmail.com
URL:https://overlandel.no/arrangement/nymane-seremoni-med-manifistering-og-seremoniell-kakao-19-nov/
LOCATION:Øverland Andelslandbruk\, Gml. Ringeriksvei 123\, Bekkestua\, Bekkestua\, 1356\, Norway
CATEGORIES:Kurs
ATTACH;FMTTYPE=image/png:https://overlandel.no/wp-content/uploads/2025/10/nymane-9.png
ORGANIZER;CN="Audur Siggurdardottir":MAILTO:healthyactivemama@gmail.com
END:VEVENT
END:VCALENDAR